Workbook
Name kegiatan: #REF!
Name s: #REF!
Name Eli: #REF!
Name sfsdf: #REF!
Name asdep: #REF!
Name fajar: #REF!

Sheet 1. DATA SKP
B2: DATA SASARAN KERJA PEGAWAI
B4: 1 | C4: YANG DINILAI
C5: a. | D5: Nama | E5: : | F5: DR. Salman Salsabila, S.E, M.H.Hum.
C6: b. | D6: NUPTK | E6: : | F6: 198002320000000
C7: c. | D7: Pangkat/Gol.Ruang | E7: : | F7: Penata Tingkat I, golongan ruang III/d
C8: d. | D8: Jenis Jabatan | E8: : | F8: Jabatan_Fungsional_Dosen
C9: e. | D9: Jabatan | E9: : | F9: LEKTOR
C10: g. | D10: TMT Jabatan | E10: : | F10: 1 Januari 2024
C11: f. | D11: Tingkat Jabatan (JFT saja) | E11: : | F11: -
C12: g. | D12: Unit Kerja | E12: : | F12: Universitas Duaribu duapuluh enam
B13: 2 | C13: PEJABAT PENILAI
C14: a. | D14: Nama | E14: : | F14: Dr. Endang Saefuddin
C15: b. | D15: NUPTK | E15: : | F15: 1968080500000000
C16: c. | D16: Pangkat/Gol.Ruang | E16: : | F16: Pembina Utama Muda, golongan ruang IV/c
C17: d. | D17: Jabatan | E17: : | F17: Dekan Fakultas Hukum
C18: e. | D18: Unit Kerja | E18: : | F18: =F12 -> Universitas Duaribu duapuluh enam
B19: 3 | C19: ATASAN PEJABAT PENILAI
C20: a. | D20: Nama | E20: : | F20: Prof. Alfian subroto, M.Pd.
C21: b. | D21: NUPTK | E21: : | F21: 196911211000000
C22: c. | D22: Pangkat/Gol.Ruang | E22: : | F22: Pembina Utama Madya, IV/d
C23: d. | D23: Jabatan | E23: : | F23: Rektor
C24: e. | D24: Unit Kerja | E24: : | F24: =F18 -> Universitas Duaribu duapuluh enam

Sheet 2. COVER (cetak)
B9: SASARAN KINERJA PEGAWAI
B14: Jangka Waktu Penilaian
B15: JANUARI - DESEMBER 2025
D19: Nama Pegawai | H19: : | I19: ='1. DATA SKP'!F5 -> DR. Salman Salsabila, S.E, M.H.Hum.
D20: NUPTK | H20: : | I20: ='1. DATA SKP'!F6 -> 198002320000000
D21: Pangkat Golongan Ruang | H21: : | I21: ='1. DATA SKP'!F7 -> Penata Tingkat I, golongan ruang III/d
D22: Jabatan | H22: : | I22: ='1. DATA SKP'!F9 -> LEKTOR
D23: Unit Kerja | H23: : | I23: ='1. DATA SKP'!F12 -> Universitas Duaribu duapuluh enam
B29: KEMENTERIAN PENDIDIKAN, KEBUDAYAAN, RISET DAN TEKNOLOGI
B30: LEMBAGA LAYANAN PENDIDIKAN TINGGI WILAYAH VI
B31: 2025

Sheet SKP Pimpinan
A1: SASARAN KINERJA PEGAWAI
A2: PENDEKATAN HASIL KERJA KUALITATIF
A3: BAGI PEJABAT PIMPINAN TINGGI DAN PIMPINAN UNIT KERJA MANDIRI
A5: (NAMA INSTANSI) | F5: PERIODE PENILAIAN: ….. JANUARI SD … DESEMBER TAHUN ….
A6: NO | B6: PEGAWAI YANG DINILAI | D6: NO | E6: PEJABAT PENILAI KINERJA
A7: 1 | B7: NAMA | D7: 1 | E7: NAMA
A8: 2 | B8: NIP | D8: 2 | E8: NIP (*opsional)
A9: 3 | B9: PANGKAT/ GOL. RUANG | D9: 3 | E9: PANGKAT/ GOL. RUANG
A10: 4 | B10: JABATAN | D10: 4 | E10: JABATAN
A11: 5 | B11: UNIT KERJA | D11: 5 | E11: UNIT KERJA
A12: HASIL KERJA
A13: A. UTAMA
A14: 1 | B14: (Hasil yang diharapkan dengan prioritas tinggi disertai dengan Jabatan Pimpinan yang memberikan penugasan)
B15: Ukuran keberhasilan/ Indikator Kinerja Individu, Target, dan Perspektif :
A16: 2 | B16: (Hasil yang diharapkan dengan prioritas tinggi disertai dengan Jabatan Pimpinan yang memberikan penugasan)
B17: Ukuran keberhasilan/ Indikator Kinerja Individu, Target, dan Perspektif :
A18: 3 | B18: (Hasil yang diharapkan dengan prioritas tinggi disertai dengan Jabatan Pimpinan yang memberikan penugasan)
B19: Ukuran keberhasilan/ Indikator Kinerja Individu, Target, dan Perspektif :
A20: 4 | B20: (Hasil yang diharapkan dengan prioritas tinggi disertai dengan Jabatan Pimpinan yang memberikan penugasan)
B21: Ukuran keberhasilan/ Indikator Kinerja Individu, Target, dan Perspektif :
A22: 5 | B22: (Hasil yang diharapkan dengan prioritas tinggi disertai dengan Jabatan Pimpinan yang memberikan penugasan)
B23: Ukuran keberhasilan/ Indikator Kinerja Individu, Target, dan Perspektif :
A24: …..
A25: B. TAMBAHAN
A26: 1 | B26: (Hasil yang diharapkan dengan prioritas rendah disertai dengan Jabatan Pimpinan yang memberikan penugasan)
B27: Ukuran keberhasilan/ Indikator Kinerja Individu, Target, dan Perspektif :
A28: 2 | B28: (Hasil yang diharapkan dengan prioritas rendah disertai dengan Jabatan Pimpinan yang memberikan penugasan)
B29: Ukuran keberhasilan/ Indikator Kinerja Individu, Target, dan Perspektif :
A30: PERILAKU KERJA*
A31: 1 | B31: Berorientasi pelayanan
B32: - Memahami dan memenuhi kebutuhan masyarakat | E32: Ekspektasi Khusus Pimpinan:
B33: - Ramah, cekatan, solutif, dan dapat diandalkan
B34: - Melakukan perbaikan tiada henti
A35: 2 | B35: Akuntabel
B36: - Melaksanakan tugas dengan jujur, bertanggung jawab, cermat, disiplin, dan berintegritas tinggi | E36: Ekspektasi Khusus Pimpinan:
B37: - Menggunakan kekayaan dan barang milik negara secara bertanggung jawab, efektif, dan efisien.
B38: - Tidak menyalahgunakan kewenangan jabatan
A39: 3 | B39: Kompeten
B40: - Meningkatkan kompetensi diri untuk menjawab tantangan yang selalu berubah | E40: Ekspektasi Khusus Pimpinan:
B41: - Membantu orang lain belajar
...

Sheet Manual Indikator
A1: MANUAL INDIKATOR KINERJA SKP KEPALA BIRO SDM
A2: KEMENDIKBUDRISTEK | B2: PERIODE PENILAIAN: JANUARI SD DESEMBER TAHUN 2022
A3: RENCANA HASIL KERJA
A4: UKURAN KEBERHASILAN/ INDIKATOR KINERJA DAN TARGET
A5: TUJUAN
A6: DESKRIPSI | B6: Definisi
B8: Formula (opsional bagi pendekatan hasil kerja kualitatif)
A10: SATUAN PENGUKURAN (opsional bagi pendekatan hasil kerja kualitatif)
A11: KUALITAS DAN TINGKAT KENDALI | B11: ( ) Outcome ( ) Outcome Antara ( ) Output kendali rendah
A12: SUMBER DATA
A13: PERIODE PELAPORAN | B13: ( ) Bulanan ( ) Triwulanan ( ) Semesteran ( ) Tahunan
A15: RENCANA HASIL KERJA
A16: UKURAN KEBERHASILAN/ INDIKATOR KINERJA DAN TARGET
A17: TUJUAN
A18: DESKRIPSI | B18: Definisi
B20: Formula (opsional bagi pendekatan hasil kerja kualitatif)
A22: SATUAN PENGUKURAN (opsional bagi pendekatan hasil kerja kualitatif)
A23: KUALITAS DAN TINGKAT KENDALI | B23: ( ) Outcome ( ) Outcome Antara ( ) Output kendali rendah
A24: SUMBER DATA
A25: PERIODE PELAPORAN | B25: ( ) Bulanan ( ) Triwulanan ( ) Semesteran ( ) Tahunan

Sheet 3. SKP Pegawai (cetak)
B1: LAMP : 1
B2: SASARAN KINERJA PEGAWAI
B3: PENDEKATAN HASIL KERJA KUALITATIF
B4: BAGI PEJABAT ADMINISTRASI / FUNGSIONAL
B6: =+D12 -> Universitas Duaribu duapuluh enam | G6: PERIODE PENILAIAN: 01 JANUARI SD 31 DESEMBER TAHUN 2025
B7: NO | C7: PEGAWAI YANG DINILAI | E7: NO | F7: PEJABAT PENILAI KINERJA
B8: 1 | C8: NAMA | D8: ='1. DATA SKP'!F5 -> DR. Salman Salsabila, S.E, M.H.Hum. | E8: 1 | F8: NAMA | G8: ='1. DATA SKP'!F14 -> Dr. Endang Saefuddin
B9: 2 | C9: NIP | D9: ='1. DATA SKP'!F6 -> 198002320000000 | E9: 2 | F9: NIP | G9: ='1. DATA SKP'!F15 -> 1968080500000000
B10: 3 | C10: PANGKAT/ GOL. RUANG | D10: ='1. DATA SKP'!F7 -> Penata Tingkat I, golongan ruang III/d | E10: 3 | F10: PANGKAT/ GOL. RUANG | G10: ='1. DATA SKP'!F16 -> Pembina Utama Muda, golongan ruang IV/c
B11: 4 | C11: JABATAN | D11: ='1. DATA SKP'!F9 -> LEKTOR | E11: 4 | F11: JABATAN | G11: ='1. DATA SKP'!F17 -> Dekan Fakultas Hukum
B12: 5 | C12: UNIT KERJA | D12: ='1. DATA SKP'!F12 -> Universitas Duaribu duapuluh enam | E12: 5 | F12: UNIT KERJA | G12: ='1. DATA SKP'!F18 -> Universitas Duaribu duapuluh enam
B13: HASIL KERJA
B14: A. UTAMA
B15: 1 | C15: (contoh) Terlaksananya Pengajaran mata kuliah teori di kelas dan pengajaran di laboratorium sesuai dengan RPS dan tepat waktu (Penugasan dari Ketua Program Studi Manajemen)
C16: Ukuran keberhasilan/ Indikator Kinerja Individu, Target : (contoh) : - Kesesuaian pelaksanaan pembelajaran dengan RPS: Jumlah pertemuan sesuai dengan materi dan metode pada RPS. - Ketepatan waktu pelaksanaan perkuliahan: kehadiran dosen tepat waktu sesuai jadwal. - Jumlah pertemuan terpenuhi: Jumlah realisasi tatap muka sesuai dengan standar yang telah ditentukan. - Kelengkapan administrasi pembelajaran: Tersedianya presensi, jurnal mengajar, bahan ajar, dan nilai mahasiswa. - Evaluasi pembelajaran mahasiswa: tersedianya Nilai evaluasi dosen oleh mahasiswa (EDOM) atau survei kepuasan.
B17: 2 | C17: (contoh) Terlaksananya kegiatan Penelitian sesuai bidang keahlian (Penugasan dari Ketua Program Studi Manajemen)
C18: Ukuran keberhasilan/ Indikator Kinerja Individu, Target : (contoh) : - Jumlah penelitian yang dilaksanakan: Jumlah judul penelitian yang dikerjakan dalam 1 tahun sesuai dengan target Perguruan Tinggi. - Kesesuaian bidang keahlian: Jumlah penelitian yang relevan dengan bidang keilmuan. - Luaran penelitian: Jumlah publikasi (jurnal nasional terakreditasi / internasional), prosiding, atau HKI. - Kualitas publikasi: Tingkat akreditasi jurnal (Sinta/Scopus) atau reputasi luaran. - Ketepatan waktu penyelesaian: Persentase penelitian yang selesai sesuai timeline. - Perolehan pendanaan penelitian (opsional): Jumlah hibah internal/eksternal yang diperoleh. - Pelaporan dan administrasi: Kelengkapan laporan akhir, logbook, dan bukti luaran.
B19: 3 | C19: (contoh) Terlaksananya kegiatan Pengabdian kepada masyarakat sesuai bidang keahlian yang dibiayai dari dana Perguruan Tinggi dan pihak luar (Penugasan dari Ketua Program Manajemen)
C20: Ukuran keberhasilan/ Indikator Kinerja Individu, Target : (contoh) - Jumlah kegiatan PkM yang dilaksanakan: Banyaknya program/kegiatan pengabdian dalam 1 tahun sebanyak 10 PkM - Kesesuaian dengan bidang keahlian: Persentase kegiatan yang relevan dengan bidang ilmu manajemen sebanyak 100% - Sumber pendanaan kegiatan: Jumlah kegiatan yang didanai internal PT dan/atau pihak eksternal (hibah/mitra) sejumlah 10 - Luaran kegiatan PkM: Publikasi (jurnal pengabdian/prosiding), laporan, HKI, atau produk tepat guna. - Dampak kegiatan kepada masyarakat: Tingkat kebermanfaatan (misal: peningkatan kapasitas mitra, UMKM binaan, dll) baik - Ketepatan waktu pelaksanaan: seluruh kegiatan selesai sesuai jadwal - Kelengkapan administrasi dan pelaporan: Tersedianya proposal, laporan, dokumentasi, dan bukti luaran.
B21: 4 | C21: (contoh) Terlaksananya pembimbingan Tugas Akhir mahasiswa Program Studi D3 Manajemen yang dibimbing sesuai panduan penulisan Tugas akhir dan tepat waktu (Penugasan dari Ketua Program Studi Manajemen)
C22: Ukuran keberhasilan/ Indikator Kinerja Individu, Target : (contoh) - Jumlah mahasiswa bimbingan: 25 mahasiswa Tugas Akhir yang dibimbing dalam 1 periode. - Kesesuaian dengan panduan penulisan: jumlah / persentase bimbingan yang mengikuti pedoman/format resmi Prodi. - Frekuensi dan kualitas bimbingan: Jumlah pertemuan bimbingan per mahasiswa dan kualitas arahan. - Ketepatan waktu penyelesaian: Persentase mahasiswa yang lulus/selesai tepat waktu. - Tingkat kelulusan mahasiswa bimbingan: Persentase mahasiswa yang berhasil lulus ujian Tugas Akhir. - Kualitas hasil Tugas Akhir: Nilai rata-rata atau kategori mutu (baik/sangat baik). - Kelengkapan administrasi bimbingan: Ketersediaan logbook bimbingan, lembar konsultasi, dan berita acara.
B23: 5 | C23: (contoh) Terlaksananya pembimbingan Skripsi mahasiswa Program Studi S1 Manajemen yang dibimbing sesuai panduan penulisan Tugas akhir dan tepat waktu (Penugasan dari Ketua Program Studi Manajemen)
C24: Ukuran keberhasilan/ Indikator Kinerja Individu, Target : - Jumlah mahasiswa yang dibimbing sebanyak 4 mahasiswa - Dokumen hasil konsultasi bimbingan tersedia lengkap - Dokumen Proposan Skripsi Mahasiswa - Fleksibilitas waktu bimbingan mahasiswa - Penyelesaian Skripsi tepat waktu - Skripsi Mahasiswa disusun sesuai dengan panduan yang ditentukan - Kualitas Skripsi baik sesuai dengan standar mutu yang telah ditentukan
B25: 6 | C25: (contoh) Menjadi Tim Penguji Skripsi / Tugas Akhir mahasiswa mahasiswa Program Studi Manajemen yang diuji sesuai dengan waktu yang ditentukan dan kualitas tugas akhir / skripsi yang baik (Penugasan dari Ketua Program Studi Manajemen)
C26: Ukuran keberhasilan/ Indikator Kinerja Individu, Target : (contoh) - Jumlah mahasiswa yang diuji: Banyaknya mahasiswa yang diujikan sebagai penguji dalam 1 periode. - Kehadiran dan ketepatan waktu pelaksanaan ujian: Persentase kehadiran sebagai penguji sesuai jadwal yang ditetapkan. - Kualitas pelaksanaan pengujian: Kedalaman pertanyaan, relevansi masukan, dan objektivitas penilaian. - Kesesuaian dengan pedoman penilaian: Penilaian mengikuti rubrik/pedoman resmi Prodi. - Kontribusi terhadap peningkatan kualitas TA/Skripsi: Persentase mahasiswa yang melakukan perbaikan sesuai masukan penguji. - Ketepatan waktu penyelesaian administrasi ujian: Pengisian nilai, berita acara, dan dokumen pendukung tepat waktu. - Kelengkapan administrasi pengujian: Ketersediaan lembar penilaian, berita acara, dan dokumentasi.
B27: 7 | C27: (contoh) Menjadi dosen pembimbing Magang/Praktik Industri mahasiswa Program Studi Manajemen yang dibimbing sesuai panduan penulisan laporan magang dan tepat waktu (Penugasan dari Ketua Program Studi Manajemen)
C28: Ukuran keberhasilan/ Indikator Kinerja Individu, Target :
B29: 8 | C29: hapus baris apabila todak diperlukan
B31: 9 | C31: hapus baris apabila todak diperlukan
B33: 10 | C33: hapus baris apabila todak diperlukan
B35: 10
B37: B. TAMBAHAN
B38: 1 | C38: Terlaksananya kegiatan kepanitiaan/seminar/organisasi profesi/badan Perguruan Tinggi
C39: Ukuran keberhasilan/ Indikator Kinerja Individu, Target: - Mengikuti 4 kegiatan sebagai anggota - Dokumen hasil kegiatan tersedia lengkap - Kesuksesan kegiatan yang dilaksanakan
B40: 2 | C40: Terlaksananya kegiatan bimbingan dosen wali kelas / pembimbingan Akademik mahasiswa (Penugasan dari Ketua Program Studi Manajemen)
C41: Ukuran keberhasilan/ Indikator Kinerja Individu, Target: - Berperan sebagai dosen Pembimbing Akademik / wali kelas sebanyak 2500 mahasiswa - Semua mahasiswa dalam pembimbingan / perwalian tidak ada yang dicutikan atau DO - Meningkatnya kepatuhan mahasiswa terhadap peraturarn-peraturn yang berlaku - Meningkatknya kualitas akademik Mahasiswa
B42: 3 | C42: Berperan aktif dalam pertemuan ilmiah sesuai bidang ilmu (Penugasan dari Ketua Program Studi Manajemen)
C43: Ukuran keberhasilan/ Indikator Kinerja Individu, Target - Berperan aktif sebagai panitia dalam Seminar Nasional…... - berperan sebagai Moderator / Presenter di 2 Seminar Nasional . ….
B44: 4 | C44: Berperan aktif dalam organisasi-organisasi profesi sesuai bidang ilmu (Penugasan dari Ketua Program Studi Manajemen)
C45: Ukuran keberhasilan/ Indikator Kinerja Individu, Target, dan Perspektif : - Berperan aktif sebagai Pengurus organisasi profesi…… - Berperan aktif dalam kegiatan-kegiatan yang dilaksanakan oleh organisasi profesi sesuai dengan bidan ilmu dan keahliannya
...

Sheet 4. Lampiran SKP (cetak)
B1: LAMP : 2
B3: LAMPIRAN SASARAN KINERJA PEGAWAI
B5: DUKUNGAN SUMBER DAYA
B6: 1 | C6: CONTOH: Tersedianya ruang perkuliahan yang dilengkapi dengan sarana dan prasarana yang memadai untuk kegiatan pembelajaran baik untuk teori, praktik di laboratorium maupun bengkel
B7: 2 | C7: Tersedianya fasilitas laboratorium sesuai kebutuhan
B8: 3 | C8: Dukungan sarana prasarana IT yang memadai
B9: 4 | C9: Tersedianya panduan dokumen baku panduan penyusunan tugas akhir
B10: 5 | C10: Tersedianya form bimbingan tugas akhir baik manual maupun melalui sistem informasi
B11: 6 | C11: Tersedianya panduan dokumen baku panduan penyusunan Skripsi
B12: 7 | C12: Tersedianya form bimbingan Skripsi baik manual maupun melalui sistem informasi
B13: 8 | C13: Dukungan perijinan dan pendanaan untuk melakukan kegiatan penelitian dan pengabdian kepada masyarakat baik pendanaan Internal Perguruan Tinggi maupun ekternal dari pemerintah / pihak lain.
B14: 9 | C14: Adanya kerjasama antara Perguruan Tinggi dengan mitra DUDI untuk melakukan kegiatan penelitian dan pengabdian kepada masyarakat
B15: 10 | C15: Kebijakan fleksibilitas waktu dalam melakukan pembimbingan (tugas akhir/skripsi/magang industri), penelitian dan pengabdian kepada masyarakat
B16: 11 | C16: Tambahkan / hapus baris apabila diperlukan
B17: 12
B18: SKEMA PERTANGGUNGJAWABAN
B19: 1 | C19: Dokumen laporan perkembangan hasil kerja dilaporkan secara sistematis dan periodik kepada Ketua Program Studi
B20: 2 | C20: Dokumen Daftar kehadiran mengajar diserahkan secara sistematis dan periodik ke Program Studi
B21: 3 | C21: Dokumen laporan pelaksanaan perkuliahan sesuai dengan RPS dipalorkan secara periodik dan sistematis kepada ketua Program Studi
B22: 4 | C22: Dokumen Hasil penilaian pembelajaran diserahkan kepada Program Studi melalui SIAKAD
B23: 5 | C23: Dokumen Bukti kegiatan dilaporkan dan disimpan baik fisik maupun digital serta diunggah melalui Sister untuk dilakukan penilaian BKD
B24: 6 | C24: Dokumen Jurnal Penelitian dilaporkan kepada kaprodi dan diunggah ke sinta
B25: 7 | C25: Tambahkan / hapus baris apabila diperlukan
B26: 8
B27: KONSEKUENSI
B28: 1 | C28: Jika memenuhi ekspektasi maka penilaian pegawai akan Baik direkomendasikan untuk pengembangan kompetensi lain atau tindakan lain
B29: 2 | C29: Jika tidak memenuhi ekspektasi maka penilaian pegawai akan Tidak Baik dan direkomendasikan untuk pengembangan kompetensi sesuai dengan bidangnya atau tindakan lain
D31: {='3. SKP Pegawai (cetak)'!F78:G78} -> Semarang, 3 Januari 2025
C32: Pegawai yang Dinilai | D32: Pejabat Penilai Kinerja
C37: ='1. DATA SKP'!F5 -> DR. Salman Salsabila, S.E, M.H.Hum. | D37: ='1. DATA SKP'!F14 -> Dr. Endang Saefuddin
C38: ='1. DATA SKP'!F6 -> 198002320000000 | D38: ='1. DATA SKP'!F15 -> 1968080500000000

Sheet 5. Evaluasi Pegawai (cetak)
B1: LAMP : 3
B2: EVALUASI KINERJA PEGAWAI
B3: PENDEKATAN HASIL KERJA KUALITATIF
B4: BAGI PEJABAT ADMINISTRASI DAN PEJABAT FUNGSIONAL
B6: PERIODE: TRIWULAN I/II/III/IV-AKHIR*
H7: ='3. SKP Pegawai (cetak)'!G6 -> PERIODE PENILAIAN: 01 JANUARI SD 31 DESEMBER TAHUN 2025
B8: NO. | C8: PEGAWAI YANG DINILAI | H8: NO. | I8: PEJABAT PENILAI KINERJA
B9: 1 | C9: NAMA | E9: ='1. DATA SKP'!F5 -> DR. Salman Salsabila, S.E, M.H.Hum. | H9: 1 | I9: NAMA | K9: ='1. DATA SKP'!F14 -> Dr. Endang Saefuddin
B10: 2 | C10: NUPTK | E10: ='1. DATA SKP'!F6 -> 198002320000000 | H10: 2 | I10: NUPTK | K10: ='1. DATA SKP'!F15 -> 1968080500000000
B11: 3 | C11: PANGKAT/GOL. RUANG | E11: ='1. DATA SKP'!F7 -> Penata Tingkat I, golongan ruang III/d | H11: 3 | I11: PANGKAT/GOL. RUANG | K11: ='1. DATA SKP'!F16 -> Pembina Utama Muda, golongan ruang IV/c
B12: 4 | C12: JABATAN | E12: ='1. DATA SKP'!F9 -> LEKTOR | H12: 4 | I12: JABATAN | K12: ='1. DATA SKP'!F17 -> Dekan Fakultas Hukum
B13: 5 | C13: UNIT KERJA | E13: ='1. DATA SKP'!F12 -> Universitas Duaribu duapuluh enam | H13: 5 | I13: INSTANSI | K13: ='1. DATA SKP'!F18 -> Universitas Duaribu duapuluh enam
B14: HASIL KERJA | J14: REALISASI BERDASARKAN BUKTI DUKUNG | L14: UMPAN BALIK BERKELANJUTAN BERDASARKAN BUKTI DUKUNG | M14: HASIL KERJA 1-Dibawah Ekspektasi 2- Sesuai Ekspektasi 3- diatas Ekspektasi | N14: Angka | Y14: Dibawah Ekspektasi
B15: A. UTAMA | Y15: Sesuai Ekspektasi
B16: 1 | C16: ='3. SKP Pegawai (cetak)'!C15 -> (contoh) Terlaksananya Pengajaran mata kuliah teori di kelas dan pengajaran di laboratorium sesuai dengan RPS dan tepat waktu (Penugasan dari Ketua Program Studi Manajemen) | J16: Dosen melakukan kegiatan perkuliahan dengan mahasiswa dengan bukti SK mengajar, absensi dan lainnya dan dokumen pelaksanaan lainnya yang lengkap BUKTI DUKUNG: (LINK GOOGLE DRIVE) | L16: Contoh: Dosen sudah bekerja dengan sangat baik. Pertahankan | M16: Diatas Ekspektasi | N16: =IFERROR(VLOOKUP(M16,PD!$B$13:$C$15,2,0),"") -> 3 | Y16: Diatas Ekspektasi
C17: ='3. SKP Pegawai (cetak)'!C16 -> Ukuran keberhasilan/ Indikator Kinerja Individu, Target : (contoh) : - Kesesuaian pelaksanaan pembelajaran dengan RPS: Jumlah pertemuan sesuai dengan materi dan metode pada RPS. - Ketepatan waktu pelaksanaan perkuliahan: kehadiran dosen tepat waktu sesuai jadwal. - Jumlah pertemuan terpenuhi: Jumlah realisasi tatap muka sesuai dengan standar yang telah ditentukan. - Kelengkapan administrasi pembelajaran: Tersedianya presensi, jurnal mengajar, bahan ajar, dan nilai mahasiswa. - Evaluasi pembelajaran mahasiswa: tersedianya Nilai evaluasi dosen oleh mahasiswa (EDOM) atau survei kepuasan.
B18: 2 | C18: ='3. SKP Pegawai (cetak)'!C17 -> (contoh) Terlaksananya kegiatan Penelitian sesuai bidang keahlian (Penugasan dari Ketua Program Studi Manajemen) | J18: Dosen telah melakukan penelitian sesuai dengan bidang ilmunya dan diselesaikan tepat waktu dan dokumen pelaksanaan yang lengkap BUKTI DUKUNG: (LINK GOOGLE DRIVE) | L18: 'Contoh: Dosen sudah bekerja dengan sangat baik. Pertahankan | M18: Sesuai Ekspektasi | N18: =IFERROR(VLOOKUP(M18,PD!$B$13:$C$15,2,0),"") -> 2
C19: ='3. SKP Pegawai (cetak)'!C18 -> Ukuran keberhasilan/ Indikator Kinerja Individu, Target : (contoh) : - Jumlah penelitian yang dilaksanakan: Jumlah judul penelitian yang dikerjakan dalam 1 tahun sesuai dengan target Perguruan Tinggi. - Kesesuaian bidang keahlian: Jumlah penelitian yang relevan dengan bidang keilmuan. - Luaran penelitian: Jumlah publikasi (jurnal nasional terakreditasi / internasional), prosiding, atau HKI. - Kualitas publikasi: Tingkat akreditasi jurnal (Sinta/Scopus) atau reputasi luaran. - Ketepatan waktu penyelesaian: Persentase penelitian yang selesai sesuai timeline. - Perolehan pendanaan penelitian (opsional): Jumlah hibah internal/eksternal yang diperoleh. - Pelaporan dan administrasi: Kelengkapan laporan akhir, logbook, dan bukti luaran.
B20: 3 | C20: ='3. SKP Pegawai (cetak)'!C19 -> (contoh) Terlaksananya kegiatan Pengabdian kepada masyarakat sesuai bidang keahlian yang dibiayai dari dana Perguruan Tinggi dan pihak luar (Penugasan dari Ketua Program Manajemen) | J20: Dosen telah melakukan kegiatan pengabdian kepada msyarakat dengan baik dan memberikan manfaat sosial, dilaksanakan tepat waktu dan dokumen pelaksanaan yang lengkap BUKTI DUKUNG: (LINK GOOGLE DRIVE) | L20: Dosen sudah bekerja dengan sangat baik. Pertahankan | M20: Sesuai Ekspektasi | N20: =IFERROR(VLOOKUP(M20,PD!$B$13:$C$15,2,0),"") -> 2
C21: ='3. SKP Pegawai (cetak)'!C20 -> Ukuran keberhasilan/ Indikator Kinerja Individu, Target : (contoh) - Jumlah kegiatan PkM yang dilaksanakan: Banyaknya program/kegiatan pengabdian dalam 1 tahun sebanyak 10 PkM - Kesesuaian dengan bidang keahlian: Persentase kegiatan yang relevan dengan bidang ilmu manajemen sebanyak 100% - Sumber pendanaan kegiatan: Jumlah kegiatan yang didanai internal PT dan/atau pihak eksternal (hibah/mitra) sejumlah 10 - Luaran kegiatan PkM: Publikasi (jurnal pengabdian/prosiding), laporan, HKI, atau produk tepat guna. - Dampak kegiatan kepada masyarakat: Tingkat kebermanfaatan (misal: peningkatan kapasitas mitra, UMKM binaan, dll) baik - Ketepatan waktu pelaksanaan: seluruh kegiatan selesai sesuai jadwal - Kelengkapan administrasi dan pelaporan: Tersedianya proposal, laporan, dokumentasi, dan bukti luaran.
B22: 4 | C22: ='3. SKP Pegawai (cetak)'!C21 -> (contoh) Terlaksananya pembimbingan Tugas Akhir mahasiswa Program Studi D3 Manajemen yang dibimbing sesuai panduan penulisan Tugas akhir dan tepat waktu (Penugasan dari Ketua Program Studi Manajemen) | J22: Dosen menjadi penguji Skripsi Mahasiswa sesuai dengan beban jumlah mahasiswa yang harus diuji ditunjukkan dengan bukti dokumen sripsi mahasiswa dan dokumen pelaksanaan yang lengkap BUKTI DUKUNG: (LINK GOOGLE DRIVE) | L22: Dosen sudah bekerja dengan sangat baik. Pertahankan | M22: Sesuai Ekspektasi | N22: =IFERROR(VLOOKUP(M22,PD!$B$13:$C$15,2,0),"") -> 2
C23: ='3. SKP Pegawai (cetak)'!C22 -> Ukuran keberhasilan/ Indikator Kinerja Individu, Target : (contoh) - Jumlah mahasiswa bimbingan: 25 mahasiswa Tugas Akhir yang dibimbing dalam 1 periode. - Kesesuaian dengan panduan penulisan: jumlah / persentase bimbingan yang mengikuti pedoman/format resmi Prodi. - Frekuensi dan kualitas bimbingan: Jumlah pertemuan bimbingan per mahasiswa dan kualitas arahan. - Ketepatan waktu penyelesaian: Persentase mahasiswa yang lulus/selesai tepat waktu. - Tingkat kelulusan mahasiswa bimbingan: Persentase mahasiswa yang berhasil lulus ujian Tugas Akhir. - Kualitas hasil Tugas Akhir: Nilai rata-rata atau kategori mutu (baik/sangat baik). - Kelengkapan administrasi bimbingan: Ketersediaan logbook bimbingan, lembar konsultasi, dan berita acara.
B24: 5 | C24: ='3. SKP Pegawai (cetak)'!C23 -> (contoh) Terlaksananya pembimbingan Skripsi mahasiswa Program Studi S1 Manajemen yang dibimbing sesuai panduan penulisan Tugas akhir dan tepat waktu (Penugasan dari Ketua Program Studi Manajemen) | J24: Dosen melakukan pembimbingan magang, praktek industri dengan bukti dokumen laporan magang sesuai waktu yang ditentukan dan dokumen pelaksanaan yang lengkap BUKTI DUKUNG: (LINK GOOGLE DRIVE) | L24: Dosen sudah bekerja dengan sangat baik. Pertahankan | M24: SESUAI EKSPEKTASI | N24: =IFERROR(VLOOKUP(M24,PD!$B$13:$C$15,2,0),"") -> 2
C25: ='3. SKP Pegawai (cetak)'!C24 -> Ukuran keberhasilan/ Indikator Kinerja Individu, Target : - Jumlah mahasiswa yang dibimbing sebanyak 4 mahasiswa - Dokumen hasil konsultasi bimbingan tersedia lengkap - Dokumen Proposan Skripsi Mahasiswa - Fleksibilitas waktu bimbingan mahasiswa - Penyelesaian Skripsi tepat waktu - Skripsi Mahasiswa disusun sesuai dengan panduan yang ditentukan - Kualitas Skripsi baik sesuai dengan standar mutu yang telah ditentukan
B26: 6 | C26: ='3. SKP Pegawai (cetak)'!C25 -> (contoh) Menjadi Tim Penguji Skripsi / Tugas Akhir mahasiswa mahasiswa Program Studi Manajemen yang diuji sesuai dengan waktu yang ditentukan dan kualitas tugas akhir / skripsi yang baik (Penugasan dari Ketua Program Studi Manajemen) | J26: Dosen melakukan pengabdian kepada masyarakat dengan bukti dukung laporan hasil pengabdian masyarakat sesuai dengan panduan dan dokumen pelaksanaan yang lengkap BUKTI DUKUNG: (LINK GOOGLE DRIVE) | L26: Dosen sudah bekerja dengan sangat baik. Pertahankan | M26: SESUAI EKSPEKTASI | N26: =IFERROR(VLOOKUP(M26,PD!$B$13:$C$15,2,0),"") -> 2
C27: ='3. SKP Pegawai (cetak)'!C26 -> Ukuran keberhasilan/ Indikator Kinerja Individu, Target : (contoh) - Jumlah mahasiswa yang diuji: Banyaknya mahasiswa yang diujikan sebagai penguji dalam 1 periode. - Kehadiran dan ketepatan waktu pelaksanaan ujian: Persentase kehadiran sebagai penguji sesuai jadwal yang ditetapkan. - Kualitas pelaksanaan pengujian: Kedalaman pertanyaan, relevansi masukan, dan objektivitas penilaian. - Kesesuaian dengan pedoman penilaian: Penilaian mengikuti rubrik/pedoman resmi Prodi. - Kontribusi terhadap peningkatan kualitas TA/Skripsi: Persentase mahasiswa yang melakukan perbaikan sesuai masukan penguji. - Ketepatan waktu penyelesaian administrasi ujian: Pengisian nilai, berita acara, dan dokumen pendukung tepat waktu. - Kelengkapan administrasi pengujian: Ketersediaan lembar penilaian, berita acara, dan dokumentasi.
B28: 7 | C28: ='3. SKP Pegawai (cetak)'!C27 -> (contoh) Menjadi dosen pembimbing Magang/Praktik Industri mahasiswa Program Studi Manajemen yang dibimbing sesuai panduan penulisan laporan magang dan tepat waktu (Penugasan dari Ketua Program Studi Manajemen) | J28: Dosen merancang karya teknologi yang diajukan untuk memperoleh HKI dengan bukti sertifikat hak cipta dan dokumen pelaksanaan yang lengkap BUKTI DUKUNG: (LINK GOOGLE DRIVE) | L28: Dosen sudah bekerja dengan sangat baik. Pertahankan | M28: SESUAI EKSPEKTASI | N28: =IFERROR(VLOOKUP(M28,PD!$B$13:$C$15,2,0),"") -> 2
C29: ='3. SKP Pegawai (cetak)'!C28 -> Ukuran keberhasilan/ Indikator Kinerja Individu, Target :
C30: ='3. SKP Pegawai (cetak)'!C29 -> hapus baris apabila todak diperlukan | M30: SESUAI EKSPEKTASI | N30: =IFERROR(VLOOKUP(M30,PD!$B$13:$C$15,2,0),"") -> 2
C32: ='3. SKP Pegawai (cetak)'!C31 -> hapus baris apabila todak diperlukan | M32: SESUAI EKSPEKTASI | N32: =IFERROR(VLOOKUP(M32,PD!$B$13:$C$15,2,0),"") -> 2
C34: ='3. SKP Pegawai (cetak)'!C33 -> hapus baris apabila todak diperlukan | M34: SESUAI EKSPEKTASI | N34: =IFERROR(VLOOKUP(M34,PD!$B$13:$C$15,2,0),"") -> 2
C35: ='3. SKP Pegawai (cetak)'!C36
B36: B. TAMBAHAN
B37: 1 | C37: ='3. SKP Pegawai (cetak)'!C38 -> Terlaksananya kegiatan kepanitiaan/seminar/organisasi profesi/badan Perguruan Tinggi | J37: Dosen telah melakukkan tugas tambahan dengan baik disertai dengan bukti dukung yang lengkap LINK GOOGLE DRIVE: | M37: SESUAI EKSPEKTASI | N37: =IFERROR(VLOOKUP(M37,PD!$B$13:$C$15,2,0),"") -> 2
C38: ='3. SKP Pegawai (cetak)'!C39 -> Ukuran keberhasilan/ Indikator Kinerja Individu, Target: - Mengikuti 4 kegiatan sebagai anggota - Dokumen hasil kegiatan tersedia lengkap - Kesuksesan kegiatan yang dilaksanakan
B39: 2 | C39: ='3. SKP Pegawai (cetak)'!C40 -> Terlaksananya kegiatan bimbingan dosen wali kelas / pembimbingan Akademik mahasiswa (Penugasan dari Ketua Program Studi Manajemen) | J39: Dosen telah melakukkan tugas tambahan dengan baik disertai dengan bukti dukung yang lengkap LINK GOOGLE DRIVE: | M39: SESUAI EKSPEKTASI | N39: =IFERROR(VLOOKUP(M39,PD!$B$13:$C$15,2,0),"") -> 2
C40: ='3. SKP Pegawai (cetak)'!C41 -> Ukuran keberhasilan/ Indikator Kinerja Individu, Target: - Berperan sebagai dosen Pembimbing Akademik / wali kelas sebanyak 2500 mahasiswa - Semua mahasiswa dalam pembimbingan / perwalian tidak ada yang dicutikan atau DO - Meningkatnya kepatuhan mahasiswa terhadap peraturarn-peraturn yang berlaku - Meningkatknya kualitas akademik Mahasiswa
B41: 3 | C41: ='3. SKP Pegawai (cetak)'!C42 -> Berperan aktif dalam pertemuan ilmiah sesuai bidang ilmu (Penugasan dari Ketua Program Studi Manajemen) | J41: Dosen telah melakukkan tugas tambahan dengan baik disertai dengan bukti dukung yang lengkap LINK GOOGLE DRIVE: | M41: SESUAI EKSPEKTASI | N41: =IFERROR(VLOOKUP(M41,PD!$B$13:$C$15,2,0),"") -> 2
C42: ='3. SKP Pegawai (cetak)'!C43 -> Ukuran keberhasilan/ Indikator Kinerja Individu, Target - Berperan aktif sebagai panitia dalam Seminar Nasional…... - berperan sebagai Moderator / Presenter di 2 Seminar Nasional . ….
B43: 4 | C43: ='3. SKP Pegawai (cetak)'!C44 -> Berperan aktif dalam organisasi-organisasi profesi sesuai bidang ilmu (Penugasan dari Ketua Program Studi Manajemen) | J43: Dosen telah melakukkan tugas tambahan dengan baik disertai dengan bukti dukung yang lengkap LINK GOOGLE DRIVE: | M43: Sesuai Ekspektasi | N43: =IFERROR(VLOOKUP(M43,PD!$B$13:$C$15,2,0),"") -> 2
...

Sheet 6. Dok. Ev. Kinerja (cetak  ) 
H7: DOKUMEN EVALUASI KINERJA PEGAWAI
H9: PERIODE*: TRIWULAN I/II/III/IV-AKHIR**
B10: DOKUMEN EVALUASI KINERJA PEGAWAI | H10: KEMENTERIAN PENDIDIKAN, KEBUDAYAAN, RISET, DAN TEKNOLOGI | J10: PERIODE PENILAIAN: | N10: CATATAN :
J11: =+D14 -> 01 JANUARI S.D. 31 DESEMBER TAHUN 2025 | N11: PILIH SALAH SATU UNTUK PENCETAKAN !!
B12: PERIODE*: TRIWULAN I/II/III/IV-AKHIR** | H12: 1 | I12: PEGAWAI YANG DINILAI
B13: KEMENTERIAN PENDIDIKAN, KEBUDAYAAN, RISET, DAN TEKNOLOGI | D13: PERIODE PENILAIAN: | I13: NAMA | J13: : | K13: =E16 -> DR. Salman Salsabila, S.E, M.H.Hum.
D14: 01 JANUARI S.D. 31 DESEMBER TAHUN 2025 | I14: NIP | J14: : | K14: =E17 -> 198002320000000
B15: 1 | C15: PEGAWAI YANG DINILAI | I15: PANGKAT/GOL. RUANG | J15: : | K15: =E18 -> Penata Tingkat I, golongan ruang III/d
C16: NAMA | D16: : | E16: ='1. DATA SKP'!F5 -> DR. Salman Salsabila, S.E, M.H.Hum. | I16: JABATAN | J16: : | K16: =E19 -> LEKTOR
C17: NIP | D17: : | E17: ='1. DATA SKP'!F6 -> 198002320000000 | I17: UNIT KERJA | J17: : | K17: =E20 -> Universitas Duaribu duapuluh enam
C18: PANGKAT/GOL. RUANG | D18: : | E18: ='1. DATA SKP'!F7 -> Penata Tingkat I, golongan ruang III/d | H18: 2 | I18: PEJABAT PENILAI KINERJA
C19: JABATAN | D19: : | E19: ='1. DATA SKP'!F9 -> LEKTOR | I19: NAMA | J19: : | K19: =E22 -> Dr. Endang Saefuddin
C20: UNIT KERJA | D20: : | E20: ='1. DATA SKP'!F12 -> Universitas Duaribu duapuluh enam | I20: NIP | J20: : | K20: =E23 -> 1968080500000000
B21: 2 | C21: PEJABAT PENILAI KINERJA | I21: PANGKAT/GOL. RUANG | J21: : | K21: =E24 -> Pembina Utama Muda, golongan ruang IV/c
C22: NAMA | D22: : | E22: ='1. DATA SKP'!F14 -> Dr. Endang Saefuddin | I22: JABATAN | J22: : | K22: =E25 -> Dekan Fakultas Hukum
C23: NIP | D23: : | E23: ='1. DATA SKP'!F15 -> 1968080500000000 | I23: UNIT KERJA | J23: : | K23: =E26 -> Universitas Duaribu duapuluh enam
C24: PANGKAT/GOL. RUANG | D24: : | E24: ='1. DATA SKP'!F16 -> Pembina Utama Muda, golongan ruang IV/c | H24: 3 | I24: ATASAN PEJABAT PENILAI KINERJA
C25: JABATAN | D25: : | E25: ='1. DATA SKP'!F17 -> Dekan Fakultas Hukum | I25: NAMA | J25: : | K25: ='1. DATA SKP'!F20 -> Prof. Alfian subroto, M.Pd.
C26: UNIT KERJA | D26: : | E26: ='1. DATA SKP'!F18 -> Universitas Duaribu duapuluh enam | I26: NIP | J26: : | K26: ='1. DATA SKP'!F21 -> 196911211000000
B27: 3 | C27: ATASAN PEJABAT PENILAI KINERJA | I27: PANGKAT/GOL. RUANG | J27: : | K27: ='1. DATA SKP'!F22 -> Pembina Utama Madya, IV/d
C28: NAMA | D28: : | E28: ='1. DATA SKP'!F20 -> Prof. Alfian subroto, M.Pd. | I28: JABATAN | J28: : | K28: ='1. DATA SKP'!F23 -> Rektor
C29: NIP | D29: : | E29: ='1. DATA SKP'!$F$21 -> 196911211000000 | I29: UNIT KERJA | J29: : | K29: ='1. DATA SKP'!F24 -> Universitas Duaribu duapuluh enam
C30: PANGKAT/GOL. RUANG | D30: : | E30: ='1. DATA SKP'!$F$22 -> Pembina Utama Madya, IV/d | H30: 4 | I30: EVALUASI KINERJA
C31: JABATAN | D31: : | E31: ='1. DATA SKP'!$F$23 -> Rektor | I31: CAPAIAN KINERJA ORGANISASI | J31: : | K31: =#REF! -> #REF!
C32: UNIT KERJA | D32: : | E32: ='1. DATA SKP'!$F$24 -> Universitas Duaribu duapuluh enam | I32: PREDIKAT KINERJA PEGAWAI | J32: : | K32: =E34 -> BAIK
B33: 4 | C33: EVALUASI KINERJA | H33: 5 | I33: CATATAN/ REKOMENDASI
C34: PREDIKAT KINERJA PEGAWAI | D34: : | E34: ='5. Evaluasi Pegawai (cetak)'!B81 -> BAIK | H34: 6 | I34: REKOMENDASI
B35: 5 | C35: CATATAN/ REKOMENDASI
H36: 7 | I36: CATATAN/ REKOMENDASI
C37: Semarang, 2 Januari 2026 | E37: Semarang, 2 Januari 2026
C38: Pegawai yang dinilai | E38: Pejabat Penilai Kinerja, | H38: 8 | I38: CATATAN/ REKOMENDASI
I40: =+C37 -> Semarang, 2 Januari 2026 | K40: ='5. Evaluasi Pegawai (cetak)'!I83 -> Semarang, 2 Januari 2026
I41: Pegawai yang dinilai | K41: Pejabat Penilai Kinerja,
C43: =E16 -> DR. Salman Salsabila, S.E, M.H.Hum. | E43: ='1. DATA SKP'!F14 -> Dr. Endang Saefuddin
C44: ="NIP "&E17 -> NIP 198002320000000 | E44: ="NIP "&'1. DATA SKP'!F15 -> NIP 1968080500000000
I45: =K13 -> DR. Salman Salsabila, S.E, M.H.Hum. | K45: =K19 -> Dr. Endang Saefuddin
I46: ="NIP "&K14 -> NIP 198002320000000 | K46: ="NIP "&K20 -> NIP 1968080500000000
I48: Semarang, 4 Januari 2023
I49: Atasan Pejabat Penilai Kinerja,
I52: ='1. DATA SKP'!F20 -> Prof. Alfian subroto, M.Pd.
...

Sheet CD
A1: Istimewa | D1: Baik | G1: Butuh Perbaikan | J1: Kurang/Misconduct | M1: Sangat Kurang
A2: Kategori | B2: Pola Distribusi | D2: Kategori | E2: Pola Distribusi | G2: Kategori | H2: Pola Distribusi | J2: Kategori | K2: Pola Distribusi | M2: Kategori | N2: Pola Distribusi
A3: Sangat Kurang | B3: =B4*C3 -> 0 | C3: 0 | D3: Sangat Kurang | E3: =$E$8*F3 -> 42.916667 | F3: 0.083333333 | G3: Sangat Kurang | H3: =$H$8*I3 -> 64.375 | I3: 0.125 | J3: Sangat Kurang | K3: =$K$8*L3 -> 42.916667 | L3: 0.083333333 | M3: Sangat Kurang | N3: =$N$8*O3 -> 278.95833 | O3: 0.54166667
A4: Kurang/Misconduct | B4: =B5*C4 -> 0.42376483 | C4: 0.041666667 | D4: Kurang/Misconduct | E4: =$E$8*F4 -> 64.375 | F4: 0.125 | G4: Kurang/Misconduct | H4: =$H$8*I4 -> 85.833333 | I4: 0.16666667 | J4: Kurang/Misconduct | K4: =$K$8*L4 -> 236.04167 | L4: 0.45833333 | M4: Kurang/Misconduct | N4: =$N$8*O4 -> 150.20833 | O4: 0.29166667
A5: Butuh Perbaikan | B5: =B6*C5 -> 10.170356 | C5: 0.125 | D5: Butuh Perbaikan | E5: =$E$8*F5 -> 128.75 | F5: 0.25 | G5: Butuh Perbaikan | H5: =$H$8*I5 -> 214.58333 | I5: 0.41666667 | J5: Butuh Perbaikan | K5: =$K$8*L5 -> 128.75 | L5: 0.25 | M5: Butuh Perbaikan | N5: =$N$8*O5 -> 64.375 | O5: 0.125
A6: Baik | B6: =B7*C6 -> 81.362847 | C6: 0.29166667 | D6: Baik | E6: =$E$8*F6 -> 236.04167 | F6: 0.45833333 | G6: Baik | H6: =$H$8*I6 -> 85.833333 | I6: 0.16666667 | J6: Baik | K6: =$K$8*L6 -> 64.375 | L6: 0.125 | M6: Baik | N6: =$N$8*O6 -> 21.458333 | O6: 0.041666667
A7: Sangat Baik | B7: =B8*C7 -> 278.95833 | C7: 0.54166667 | D7: Sangat Baik | E7: =$E$8*F7 -> 42.916667 | F7: 0.083333333 | G7: Sangat Baik | H7: =$H$8*I7 -> 64.375 | I7: 0.125 | J7: Sangat Baik | K7: =$K$8*L7 -> 42.916667 | L7: 0.083333333 | M7: Sangat Baik | N7: =$N$8*O7 -> 0 | O7: 0
A8: Jumlah | B8: =D22 -> 515 | D8: Jumlah | E8: =D22 -> 515 | G8: Jumlah | H8: =D22 -> 515 | J8: Jumlah | K8: =D22 -> 515 | M8: Jumlah | N8: =D22 -> 515
A22: ="JUMLAH PEGAWAI "&'3. SKP Pegawai (cetak)'!#REF! -> #ERROR! | D22: 515

Sheet K
A2: HASIL KERJA
A3: Di Atas Ekspektasi | B3: =D15 -> KURANG/MISS CONDUCT | C3: =D12 -> BAIK | D3: =D9 -> SANGAT BAIK
A4: Sesuai Ekspektasi | B4: =D16 -> KURANG/MISS CONDUCT | C4: =D13 -> BAIK | D4: =D10 -> BAIK
A5: Di Bawah Ekspektasi | B5: =D17 -> SANGAT KURANG | C5: =D14 -> BUTUH PERBAIKAN | D5: =D11 -> BUTUH PERBAIKAN | E5: PERILAKU KERJA
B6: Di Bawah Ekspektasi | C6: Sesuai Ekspektasi | D6: Di Atas Ekspektasi
A8: Hasil Kerja | B8: Perilaku Kerja | C8: Concatenate | D8: Hasil
A9: Di Atas Ekspektasi | B9: Di Atas Ekspektasi | C9: =CONCATENATE(A9,B9) -> Di Atas EkspektasiDi Atas Ekspektasi | D9: SANGAT BAIK
A10: Sesuai Ekspektasi | B10: Di Atas Ekspektasi | C10: =CONCATENATE(A10,B10) -> Sesuai EkspektasiDi Atas Ekspektasi | D10: BAIK
A11: Di Bawah Ekspektasi | B11: Di Atas Ekspektasi | C11: =CONCATENATE(A11,B11) -> Di Bawah EkspektasiDi Atas Ekspektasi | D11: BUTUH PERBAIKAN
A12: Di Atas Ekspektasi | B12: Sesuai Ekspektasi | C12: =CONCATENATE(A12,B12) -> Di Atas EkspektasiSesuai Ekspektasi | D12: BAIK
A13: Sesuai Ekspektasi | B13: Sesuai Ekspektasi | C13: =CONCATENATE(A13,B13) -> Sesuai EkspektasiSesuai Ekspektasi | D13: BAIK
A14: Di Bawah Ekspektasi | B14: Sesuai Ekspektasi | C14: =CONCATENATE(A14,B14) -> Di Bawah EkspektasiSesuai Ekspektasi | D14: BUTUH PERBAIKAN
A15: Di Atas Ekspektasi | B15: Di Bawah Ekspektasi | C15: =CONCATENATE(A15,B15) -> Di Atas EkspektasiDi Bawah Ekspektasi | D15: KURANG/MISS CONDUCT
A16: Sesuai Ekspektasi | B16: Di Bawah Ekspektasi | C16: =CONCATENATE(A16,B16) -> Sesuai EkspektasiDi Bawah Ekspektasi | D16: KURANG/MISS CONDUCT
A17: Di Bawah Ekspektasi | B17: Di Bawah Ekspektasi | C17: =CONCATENATE(A17,B17) -> Di Bawah EkspektasiDi Bawah Ekspektasi | D17: SANGAT KURANG
A18: Di Atas Ekspektasi | B18: Di Atas Ekspektasi | C18: =CONCATENATE(A18,B18) -> Di Atas EkspektasiDi Atas Ekspektasi | D18: SANGAT BAIK
A19: Di Atas Ekspektasi | B19: Sesuai Ekspektasi | C19: =CONCATENATE(A19,B19) -> Di Atas EkspektasiSesuai Ekspektasi | D19: BAIK
A20: Di Atas Ekspektasi | B20: Di Bawah Ekspektasi | C20: =CONCATENATE(A20,B20) -> Di Atas EkspektasiDi Bawah Ekspektasi | D20: KURANG/MISS CONDUCT
... A26: Di Bawah Ekspektasi | B26: Di Bawah Ekspektasi | C26: =CONCATENATE(A26,B26) -> Di Bawah EkspektasiDi Bawah Ekspektasi | D26: SANGAT KURANG

Sheet PD
A1: ='5. Evaluasi Pegawai (cetak)'!#REF! -> #ERROR! | D1: Istimewa | E1: Baik | F1: Butuh Perbaikan | G1: Kurang/Missconduct | H1: Sangat Kurang
A2: Kategori | B2: ="KURVA DISTRIBUSIPREDIKAT KINERJA PEGAWAI DENGANCAPAIAN KINERJA ORGANISASI "&A1 -> #ERROR! | D2: Pola Distribusi | E2: Pola Distribusi | F2: Pola Distribusi | G2: Pola Distribusi | H2: Pola Distribusi
A3: Sangat Kurang | B3: =HLOOKUP($A$1,$D$1:$H$8,3,0) -> #ERROR! | D3: =CD!B3 -> 0 | E3: =CD!E3 -> 42.916667 | F3: =CD!H3 -> 64.375 | G3: =CD!K3 -> 42.916667 | H3: =CD!N3 -> 278.95833
A4: Kurang/ Misconduct | B4: =HLOOKUP($A$1,$D$1:$H$8,4,0) -> #ERROR! | D4: =CD!B4 -> 0.42376483 | E4: =CD!E4 -> 64.375 | F4: =CD!H4 -> 85.833333 | G4: =CD!K4 -> 236.04167 | H4: =CD!N4 -> 150.20833
A5: Butuh Perbaikan | B5: =HLOOKUP($A$1,$D$1:$H$8,5,0) -> #ERROR! | D5: =CD!B5 -> 10.170356 | E5: =CD!E5 -> 128.75 | F5: =CD!H5 -> 214.58333 | G5: =CD!K5 -> 128.75 | H5: =CD!N5 -> 64.375
A6: Baik | B6: =HLOOKUP($A$1,$D$1:$H$8,6,0) -> #ERROR! | D6: =CD!B6 -> 81.362847 | E6: =CD!E6 -> 236.04167 | F6: =CD!H6 -> 85.833333 | G6: =CD!K6 -> 64.375 | H6: =CD!N6 -> 21.458333
A7: Sangat Baik | B7: =HLOOKUP($A$1,$D$1:$H$8,7,0) -> #ERROR! | D7: =CD!B7 -> 278.95833 | E7: =CD!E7 -> 42.916667 | F7: =CD!H7 -> 64.375 | G7: =CD!K7 -> 42.916667 | H7: =CD!N7 -> 0
A8: Jumlah | B8: =SUM(B3:B7) -> #ERROR!
A12: HASIL KERJA
A13: 1 | B13: DIATAS EKSPEKTASI | C13: 3
A14: 2 | B14: SESUAI EKSPEKTASI | C14: 2
A15: 3 | B15: DIBAWAH EKSPEKTASI | C15: 1

Sheet nama keg kepeg
A1: NO | B1: UNSUR | D1: KEGIATAN
A2: 1 | B2: A. | C2: MANAJEMEN PNS | D2: a. | E2: Formasi
D3: b. | E3: Pengadaan
D4: c. | E4: Mutasi Kepegawaian
D5: d. | E5: Status dan Kedudukan Hukum Kepegawaian PNS
D6: e. | E6: Jabatan
D7: f. | E7: Peningkatan Pendidikan
D8: g. | E8: Mutasi Lain-lain
D9: h. | E9: Pendidikan dan Pelatihan
D10: i. | E10: Penggajian, Tunjangan dan Kesejahteraan
D11: j. | E11: Tata Usaha Kepegawaian
D12: k. | E12: Disiplin dan Pengendalian Kepegawaian
D13: l. | E13: Pemberhentian
A14: 2 | B14: B. | C14: PENGEMBANGAN SISTEM MANAJEMEN PNS | D14: a. | E14: Sistem Rekrutmen Pegawai
D15: b. | E15: Sistem Computer Assisted Test (CAT)
D16: c. | E16: Sistem Pengembangan Jabatan (anjab)
D17: d. | E17: Sistem Ketatausahaan Kepegawaian
D18: e. | E18: Penyusunan Naskah Akademik
D19: f. | E19: Pelaporan

Sheet butir kepeg
A1: PENGHITUNGAN FORMASI JABATAN ANALIS KEPEGAWAIAN
A2: UNIVERSITAS ANU
A3: NO | B3: UNSUR | D3: SUB UNSUR | F3: BUTIR KEGIATAN (DITENTUKAN BERDASARKAN UNSUR UTAMA) *) | K3: KODE KEGIATAN | L3: VOLUME KEGIATAN DALAM 1 (SATU) TAHUN | M3: SATUAN HASIL | N3: ANGKA KREDIT | O3: PELAKSANA KEGIATAN
A4: 1 | B4: 2 | D4: 3 | F4: 4 | K4: 5 | L4: 6 | M4: 7 | N4: 8 | O4: 9
A6: UNSUR UTAMA :
A7: II. | B7: TUGAS POKOK :
B8: A. | C8: MANAJEMEN PNS | D8: a. | E8: Formasi | F8: Analis Kepegawaian Keterampilan
F9: 1. | G9: Membuat konsep surat permintaan kebutuhan tambahan pegawai | K9: 112101001 | L9: 1 | M9: Surat | N9: 0.003 | O9: AK Pel. Lanjutan
F10: 2. | G10: Menyiapkan bahan pembahasan rencana usul formasi | K10: 112101002 | L10: 1 | M10: Bahan | N10: 0.01 | O10: AK Pel. Lanjutan
F11: 3. | G11: Memeriksa usul formasi | K11: 112101003 | L11: 1 | M11: Usul | N11: 0.003 | O11: AK Penyelia
F12: 4. | G12: Menyiapkan surat/surat jawaban permasalahan usul formasi | K12: 112101004 | L12: 0 | M12: Surat | N12: 0.002 | O12: AK Penyelia
F13: Analis Kepegawaian Keahlian
F14: 1. | G14: Melakukan analisis persediaan pegawai per satuan unit kerja, dengan :
G15: a). | H15: Menyusun daftar susunan jabatan | K15: 212101001 | L15: 1 | M15: Daftar | N15: 0.05 | O15: AK Pertama
G16: b). | H16: Menyusun daftar susunan pegawai menurut jabatan | K16: 212101002 | L16: 1 | M16: Daftar | N16: 0.05 | O16: AK Pertama
G17: c). | H17: Membuat perkiraan perubahan komposisi pegawai yang akan pensiun dan rencana promosi serta mutasi | K17: 212101003 | L17: 1 | M17: Daftar | N17: 0.05 | O17: AK Pertama
G18: d). | H18: Membuat perkiraan pegawai untuk waktu 2 sampai dengan 5 tahun | K18: 212101004 | L18: 1 | M18: Daftar | N18: 0.05 | O18: AK Pertama
F19: 2. | G19: Menganalisis jabatan yang meliputi uraian jabatan, syarat jabatan, dan peta jabatan serta kekuatan pegawai yang menghasilkan informasi jabatan | K19: 212101005 | L19: 30 | M19: Jabatan | N19: 0.1 | O19: AK Muda
F20: 3. | G20: Melakukan peninjauan kembali atas informasi jabatan, apabila informasi jabatan telah tersedia | K20: 212101006 | L20: 30 | M20: Jabatan | N20: 0.1 | O20: AK Pertama
F21: 4. | G21: Melaksanakan pengumpulan data, dengan :
G22: a). | H22: Mengumpulkan data pegawai tahun berjalan untuk mengetahui pegawai yang pensiun, meninggal dunia, naik pangkat, pindah instansi maupun berhenti | K22: 212101007 | L22: 1 | M22: Daftar | N22: 0.01 | O22: AK Muda
G23: b). | H23: Mengumpulkan data jabatan fungsional umum per satuan unit kerja dengan metode analisis kecenderungan berdasarkan indeks | K23: 212101008 | L23: 1 | M23: Unit Kerja/ SKPD | N23: 0.05 | O23: AK Pertama
G24: c). | H24: Mengumpulkan data jabatan fungsional umum per satuan unit kerja dengan mempertimbangkan faktor beban kerja, standar kemampuan rata-rata, waktu kerja dan memperhatikan profil daerah | K24: 212101009 | L24: 1 | M24: Unit Kerja/ SKPD | N24: 0.05 | O24: AK Pertama
G25: d). | H25: Mengumpulkan data tenaga guru yang ada (TK, SD, SLTP, SMU & SMK) *) | K25: 212101010 | M25: Sekolah | N25: 0.05 | O25: AK Muda
G26: e). | H26: Mengumpulkan data tenaga kesehatan yang ada (pada Rumah Sakit & Puskesmas) **) | K26: 212101011 | M26: Rumah Sakit /Puskesmas | N26: 0.05 | O26: AK Muda
G27: f). | H27: Mengumpulkan data pejabat fungsional yang ada | K27: 212101012 | L27: 1 | M27: Unit Kerja/ SKPD | N27: 0.05 | O27: AK Muda
F28: 5. | G28: Melaksanakan penyusunan, dengan :
G29: a). | H29: Menyusun informasi jabatan setiap pegawai yang meliputi uraian jabatan dan syarat jabatan dari suatu unit organisasi | K29: 212101013 | L29: 30 | M29: Jabatan | N29: 0.04 | O29: AK Pertama
G30: b). | H30: Menyusun peta jabatan per satuan unit kerja yang merupakan susunan nama dan tingkat jabatan struktural dan fungsional yang tergambar dalam suatu struktur organisasi dari tingkat paling rendah sampai dengan tingkat paling tinggi | K30: 212101014 | L30: 1 | M30: Peta Jabatan | N30: 0.02 | O30: AK Muda
F31: 6. | G31: Melaksanakan analisis beban kerja dalam rangka penghitungan kebutuhan jabatan per satuan unit kerja, dengan :
G32: a). | H32: Menghitung jumlah kebutuhan jabatan fungsional umum dengan metode analisis kecenderungan berdasarkan indeks | K32: 212101015 | L32: 30 | M32: Daftar | N32: 0.05 | O32: AK Pertama
G33: b). | H33: Menghitung jumlah kebutuhan jabatan fungsional umum dengan mempertimbangkan faktor beban kerja, standar kemampuan rata-rata, waktu kerja dan memperhatikan profil daerah | K33: 212101016 | L33: 30 | M33: Jabatan | N33: 0.02 | O33: AK Pertama
G34: c). | H34: Menghitung jumlah kebutuhan tenaga guru pada setiap TK, SD, SLTP, SMU dan SMK *) | K34: 212101017 | M34: Daftar | N34: 0.05 | O34: AK Muda
G35: d). | H35: Menghitung jumlah kebutuhan tenaga kesehatan pada setiap Rumah Sakit dan Puskesmas **) | K35: 212101018 | M35: Daftar | N35: 0.05 | O35: AK Muda
G36: e). | H36: Menghitung jumlah kebutuhan jabatan fungsional berdasarkan pedoman penyusunan formasi jabatan fungsional yang ditetapkan instansi pembina | K36: 212101019 | L36: 10 | M36: Daftar | N36: 0.1 | O36: AK Muda
F37: 7. | G37: Merekapitulasi hasil penghitungan kebutuhan pegawai pada setiap jabatan | K37: 212101020 | L37: 1 | M37: Daftar | N37: 0.01 | O37: AK Muda
F38: 8. | G38: Merekapitulasi hasil penghitungan kebutuhan pegawai pada setiap instansi | K38: 212101021 | L38: 1 | M38: Daftar | N38: 0.05 | O38: AK Madya
F39: 9. | G39: Mengolah data kebutuhan pegawai | K39: 212101022 | L39: 1 | M39: Laporan | N39: 0.1 | O39: AK Muda
F40: 10. | G40: Menganalisis kesenjangan antara profil PNS dengan syarat jabatan | K40: 212101023 | L40: 30 | M40: Jabatan | N40: 0.02 | O40: AK Muda
F41: 11. | G41: Mengevaluasi kebutuhan pegawai dengan cara membandingkan antara jumlah persediaan dengan kebutuhan pegawai untuk jabatan sehingga diperoleh jumlah kelebihan dan kekurangan pegawai | K41: 212101024 | L41: 1 | M41: Laporan | N41: 0.15 | O41: AK Madya
...

Sheet Sheet3
A1: PERJANJIAN KINERJA PIMPINAN UNIT KERJA
A2: Sasaran | B2: Indikator Kinerja Kegiatan | C2: Target
A3: Jumlah layanan akademik dan non akademik berbasis teknologi informasi yang terintegrasi | B3: Formasi | C3: 1 daftar
A4: Jumlah layanan akademik dan non akademik berbasis teknologi informasi yang terintegrasi | B4: Pengadaan | C4: 1 kegiatan
A5: Jumlah layanan akademik dan non akademik berbasis teknologi informasi yang terintegrasi | B5: Mutasi Kepegawaian | C5: 24 pegawai
A6: Jumlah layanan akademik dan non akademik berbasis teknologi informasi yang terintegrasi | B6: Status dan Kedudukan Hukum Kepegawaian PNS | C6: 3 pegawai
A7: Jumlah layanan akademik dan non akademik berbasis teknologi informasi yang terintegrasi | B7: Jabatan | C7: 53 pegawai
A8: Jumlah layanan akademik dan non akademik berbasis teknologi informasi yang terintegrasi | B8: Peningkatan Pendidikan | C8: 10 pegawai
A9: Jumlah layanan akademik dan non akademik berbasis teknologi informasi yang terintegrasi | B9: Mutasi Lain-lain | C9: 5 pegawai
A10: Jumlah layanan akademik dan non akademik berbasis teknologi informasi yang terintegrasi | B10: Pendidikan dan Pelatihan | C10: 25 pegawai
A11: Jumlah layanan akademik dan non akademik berbasis teknologi informasi yang terintegrasi | B11: Penggajian, Tunjangan dan Kesejahteraan | C11: 24 daftar
A12: Jumlah layanan akademik dan non akademik berbasis teknologi informasi yang terintegrasi | B12: Tata Usaha Kepegawaian | C12: 6 daftar
A13: Jumlah layanan akademik dan non akademik berbasis teknologi informasi yang terintegrasi | B13: Disiplin dan Pengendalian Kepegawaian | C13: 3 pegawai
... A18: Jumlah layanan akademik dan non akademik berbasis teknologi informasi yang terintegrasi | B18: Sistem Ketatausahaan Kepegawaian | C18: 1 laporan
A26: **silakan disesuaikan dengan PK Pimpinan Unit Kerja
